BEGIN:VCALENDAR
VERSION:2.0
PRODID:-//Založba Goga - ECPv6.15.18//NONSGML v1.0//EN
CALSCALE:GREGORIAN
METHOD:PUBLISH
X-WR-CALNAME:Založba Goga
X-ORIGINAL-URL:https://www.goga.si
X-WR-CALDESC:Dogodki za Založba Goga
REFRESH-INTERVAL;VALUE=DURATION:PT1H
X-Robots-Tag:noindex
X-PUBLISHED-TTL:PT1H
BEGIN:VTIMEZONE
TZID:Europe/Ljubljana
BEGIN:DAYLIGHT
TZOFFSETFROM:+0100
TZOFFSETTO:+0200
TZNAME:CEST
DTSTART:20230326T010000
END:DAYLIGHT
BEGIN:STANDARD
TZOFFSETFROM:+0200
TZOFFSETTO:+0100
TZNAME:CET
DTSTART:20231029T010000
END:STANDARD
BEGIN:DAYLIGHT
TZOFFSETFROM:+0100
TZOFFSETTO:+0200
TZNAME:CEST
DTSTART:20240331T010000
END:DAYLIGHT
BEGIN:STANDARD
TZOFFSETFROM:+0200
TZOFFSETTO:+0100
TZNAME:CET
DTSTART:20241027T010000
END:STANDARD
BEGIN:DAYLIGHT
TZOFFSETFROM:+0100
TZOFFSETTO:+0200
TZNAME:CEST
DTSTART:20250330T010000
END:DAYLIGHT
BEGIN:STANDARD
TZOFFSETFROM:+0200
TZOFFSETTO:+0100
TZNAME:CET
DTSTART:20251026T010000
END:STANDARD
END:VTIMEZONE
BEGIN:VEVENT
DTSTART;TZID=Europe/Ljubljana:20240325T190000
DTEND;TZID=Europe/Ljubljana:20240325T200000
DTSTAMP:20260424T163252
CREATED:20240320T122438Z
LAST-MODIFIED:20240321T161648Z
UID:30943-1711393200-1711396800@www.goga.si
SUMMARY:Čajanka ob "Tolkien Reading Day"
DESCRIPTION:Knjigarna Goga v sodelovanju s slovenskim Tolkien društvom Gil-Galad vabi na večer branja Tolkienovih del ob prazniku vseh fantazijskih praznikov\, “Tolkien Reading Day”.\nJ. R. R. Tolkien velja za očeta fantazijskega žanra\, njegova dela še danes navdihujejo bralce. Zato vas vabimo\, da se nam pridružite na večerni čajanki ob mednarodnem “Tolkien Reading Day” in nam bodisi preberete svoj najljubši del Gospodarja prstanov\, zrecitirate pesem iz Hobita\, delite z nami svoje videnje glede pomena Tolkienovih del ali pa se samo družite z drugimi Tolkien navdušenci. \nBerete lahko v originalu\, v enem izmed treh slovenskih prevodov ali v katerem izmed drugih prevodov. \nVljudno vabljeni.
URL:https://www.goga.si/dogodek/cajanka-ob-tolkien-reading-day/
LOCATION:Knjigarna in kavarna Goga
CATEGORIES:večer branja
ATTACH;FMTTYPE=image/jpeg:https://www.goga.si/wp-content/uploads/Tolkienmali-scaled.jpg
ORGANIZER;CN="Zalo%C5%BEba Goga":MAILTO:goga@goga.si
END:VEVENT
END:VCALENDAR