BEGIN:VCALENDAR
VERSION:2.0
PRODID:-//Založba Goga - ECPv6.15.18//NONSGML v1.0//EN
CALSCALE:GREGORIAN
METHOD:PUBLISH
X-WR-CALNAME:Založba Goga
X-ORIGINAL-URL:https://www.goga.si
X-WR-CALDESC:Dogodki za Založba Goga
REFRESH-INTERVAL;VALUE=DURATION:PT1H
X-Robots-Tag:noindex
X-PUBLISHED-TTL:PT1H
BEGIN:VTIMEZONE
TZID:Europe/Ljubljana
BEGIN:DAYLIGHT
TZOFFSETFROM:+0100
TZOFFSETTO:+0200
TZNAME:CEST
DTSTART:20210328T010000
END:DAYLIGHT
BEGIN:STANDARD
TZOFFSETFROM:+0200
TZOFFSETTO:+0100
TZNAME:CET
DTSTART:20211031T010000
END:STANDARD
BEGIN:DAYLIGHT
TZOFFSETFROM:+0100
TZOFFSETTO:+0200
TZNAME:CEST
DTSTART:20220327T010000
END:DAYLIGHT
BEGIN:STANDARD
TZOFFSETFROM:+0200
TZOFFSETTO:+0100
TZNAME:CET
DTSTART:20221030T010000
END:STANDARD
BEGIN:DAYLIGHT
TZOFFSETFROM:+0100
TZOFFSETTO:+0200
TZNAME:CEST
DTSTART:20230326T010000
END:DAYLIGHT
BEGIN:STANDARD
TZOFFSETFROM:+0200
TZOFFSETTO:+0100
TZNAME:CET
DTSTART:20231029T010000
END:STANDARD
END:VTIMEZONE
BEGIN:VEVENT
DTSTART;TZID=Europe/Ljubljana:20220701T150000
DTEND;TZID=Europe/Ljubljana:20220701T170000
DTSTAMP:20260424T040439
CREATED:20220621T205632Z
LAST-MODIFIED:20220623T102909Z
UID:11209-1656687600-1656694800@www.goga.si
SUMMARY:Cirkuške delavnice CIRKOKROG
DESCRIPTION:Uresničite si željo in se končno naučite žongliranja s tremi pomarančami. Mogoče pa se spogledujete s tehniko vrtenje krožnika na palici ali lebdečo hoja po vrvi? Vse to in še mnoge druge vragolije vam bodo na brezplačnih delavnicah predali profesionalni cirkuški pedagogi. Cirkus s svojo pestrostjo veščin\, barv in oblik vabi na novo odkrivanje samega sebe\, zabavno druženje in posipanje čarobnega prahu na mimoidoče.
URL:https://www.goga.si/dogodek/cirkuske-delavnice-cirkokrog-4/
LOCATION:Knjigarna Goga\, Glavni trg 6\, Novo mesto\, 8000\, Slovenija
CATEGORIES:Festival
ATTACH;FMTTYPE=image/jpeg:https://www.goga.si/wp-content/uploads/Goga-Rudi-PotepuskiSquareIzvajalci6.jpg
ORGANIZER;CN="Zalo%C5%BEba Goga":MAILTO:goga@goga.si
END:VEVENT
END:VCALENDAR