BEGIN:VCALENDAR
VERSION:2.0
PRODID:-//Založba Goga - ECPv6.15.18//NONSGML v1.0//EN
CALSCALE:GREGORIAN
METHOD:PUBLISH
X-WR-CALNAME:Založba Goga
X-ORIGINAL-URL:https://www.goga.si
X-WR-CALDESC:Dogodki za Založba Goga
REFRESH-INTERVAL;VALUE=DURATION:PT1H
X-Robots-Tag:noindex
X-PUBLISHED-TTL:PT1H
BEGIN:VTIMEZONE
TZID:Europe/Ljubljana
BEGIN:DAYLIGHT
TZOFFSETFROM:+0100
TZOFFSETTO:+0200
TZNAME:CEST
DTSTART:20240331T010000
END:DAYLIGHT
BEGIN:STANDARD
TZOFFSETFROM:+0200
TZOFFSETTO:+0100
TZNAME:CET
DTSTART:20241027T010000
END:STANDARD
BEGIN:DAYLIGHT
TZOFFSETFROM:+0100
TZOFFSETTO:+0200
TZNAME:CEST
DTSTART:20250330T010000
END:DAYLIGHT
BEGIN:STANDARD
TZOFFSETFROM:+0200
TZOFFSETTO:+0100
TZNAME:CET
DTSTART:20251026T010000
END:STANDARD
BEGIN:DAYLIGHT
TZOFFSETFROM:+0100
TZOFFSETTO:+0200
TZNAME:CEST
DTSTART:20260329T010000
END:DAYLIGHT
BEGIN:STANDARD
TZOFFSETFROM:+0200
TZOFFSETTO:+0100
TZNAME:CET
DTSTART:20261025T010000
END:STANDARD
END:VTIMEZONE
BEGIN:VEVENT
DTSTART;TZID=Europe/Ljubljana:20250318T190000
DTEND;TZID=Europe/Ljubljana:20250318T203000
DTSTAMP:20260423T023809
CREATED:20250307T135454Z
LAST-MODIFIED:20250307T151720Z
UID:35674-1742324400-1742329800@www.goga.si
SUMMARY:Fabula X Cela: Filip Grujić
DESCRIPTION:Založba Goga se v letu 2025 pridružuje Festivalu Fabula in evropski platformi CELA (Connecting Emerging Literary Artists)\, ki mladim avtorjem\, prevajalcem in literarnim strokovnjakom omogoča širšo prepoznavnost in povezovanje z literarnimi mrežami po vsej Evropi. V sklopu projekta Fabula x CELA festival predstavlja enega najbolj obetavnih glasov sodobne srbske književnosti – Filipa Grujića.\n\nNa dogodku v knjigarni Goga v Novem mestu se bo predstavil slovenskim bralcem skozi pogovor s prevajalko Natalijo Milovanović\, ki se intenzivno ukvarja s prevajanjem sodobne srbske literature v slovenščino. Skupaj bosta raziskovala literarne in gledališke razsežnosti Grujićevega ustvarjanja ter teme\, ki jih avtor obravnava v svojih delih – od eksistencialnih vprašanj do družbenih fenomenov sodobnega Balkana.\n\nO AVTORJU:\n\nFilip Grujić je nagrajeni srbski pisatelj in dramatik\, rojen leta 1995 v Novem Sadu. Diplomiral je na Fakulteti dramskih umetnosti v Beogradu\, kjer danes deluje kot asistent na Katedri za dramaturgijo. Kot dramatik je prejel številne nagrade\, med drugim Mihizovo nagrado za dramsko ustvarjanje (2020)\, Sterijino nagrado in nagrado „Slobodan Selenić“ za dramo Ne pre 4.30 niti posle 5.00\, ki se uprizarja v Ateljeju 212. Njegova dela so na repertoarju pomembnih gledaliških institucij\, obenem pa je tudi avtor in voditelj radijske oddaje Čudna šuma na Radio Beogradu 2 ter kolumnist revije Oblakoder.\nKot prozni avtor se je uveljavil z romani Podstanar (2020)\, ki je bil nominiran za Evropsko nagrado za književnost in uvrščen v ožji izbor za NIN-ovo nagrado\, Bludni dani kuratog Džonija (2017)\, po katerem so postavili gledališko predstavo v Novosadskem pozorišču\, ter I onda opet\, iz početka (2023)\, s katerim se je dokončno uveljavil kot ključno ime sodobne srbske literature.\n\nDogodek poteka v sodelovanju z Založbo Goga in v sklopu projekta Fabula x CELA\, ki v času festivala prinaša več srečanj z avtorji platforme CELA po Sloveniji\, tudi v knjigarnah Libris (Koper) in Beletrina (Maribor).
URL:https://www.goga.si/dogodek/fabula-x-cela-filip-grujic/
LOCATION:Knjigarna in kavarna Goga
CATEGORIES:Literarni večer
ATTACH;FMTTYPE=image/png:https://www.goga.si/wp-content/uploads/Pesniski-slam-1.png
END:VEVENT
END:VCALENDAR