BEGIN:VCALENDAR
VERSION:2.0
PRODID:-//Založba Goga - ECPv6.15.18//NONSGML v1.0//EN
CALSCALE:GREGORIAN
METHOD:PUBLISH
X-WR-CALNAME:Založba Goga
X-ORIGINAL-URL:https://www.goga.si
X-WR-CALDESC:Dogodki za Založba Goga
REFRESH-INTERVAL;VALUE=DURATION:PT1H
X-Robots-Tag:noindex
X-PUBLISHED-TTL:PT1H
BEGIN:VTIMEZONE
TZID:Europe/Ljubljana
BEGIN:DAYLIGHT
TZOFFSETFROM:+0100
TZOFFSETTO:+0200
TZNAME:CEST
DTSTART:20240331T010000
END:DAYLIGHT
BEGIN:STANDARD
TZOFFSETFROM:+0200
TZOFFSETTO:+0100
TZNAME:CET
DTSTART:20241027T010000
END:STANDARD
BEGIN:DAYLIGHT
TZOFFSETFROM:+0100
TZOFFSETTO:+0200
TZNAME:CEST
DTSTART:20250330T010000
END:DAYLIGHT
BEGIN:STANDARD
TZOFFSETFROM:+0200
TZOFFSETTO:+0100
TZNAME:CET
DTSTART:20251026T010000
END:STANDARD
BEGIN:DAYLIGHT
TZOFFSETFROM:+0100
TZOFFSETTO:+0200
TZNAME:CEST
DTSTART:20260329T010000
END:DAYLIGHT
BEGIN:STANDARD
TZOFFSETFROM:+0200
TZOFFSETTO:+0100
TZNAME:CET
DTSTART:20261025T010000
END:STANDARD
END:VTIMEZONE
BEGIN:VEVENT
DTSTART;TZID=Europe/Ljubljana:20250820T200000
DTEND;TZID=Europe/Ljubljana:20250820T210000
DTSTAMP:20260422T201337
CREATED:20250616T074726Z
LAST-MODIFIED:20251107T075835Z
UID:36648-1755720000-1755723600@www.goga.si
SUMMARY:Fantastična literatura; Julija Lukovnjak\, Domen Kodrič in Aljoša Harlamov /  Literarni večer
DESCRIPTION:Gosta večera\, Julija Lukovnjak in Domen Kodrič\, sta avtorja fantazijskih romanov\, ki sta vzbudila veliko pozornosti\, na odru pa se bosta skozi debato skupaj s publiko potopila v edinstven univerzum sodobne fantazijske pisave v Sloveniji. Julija Lukovnjak je avtorica sage o Edgarju Kaosu\, letos je objavila tretji del z naslovom Živa tema Edgarja Kaosa. Domen Kodrič je avtor fantazijskega romana Južni Viking\, v katerem se prepletata zgodovinska resničnost in skandinavska mitologija. Avtorja bosta o vsem\, kar ponuja žanr fantazije\, spregovorila z urednikom in poznavalcem žanrske literature\, Aljošo Harlamovim.
URL:https://www.goga.si/dogodek/fantasticna-literatura-julija-lukovnjak-domen-kodric-in-aljosa-harlamov-literarni-vecer/
CATEGORIES:Literarni večer,Novomeški poletni večeri 2025
END:VEVENT
END:VCALENDAR