BEGIN:VCALENDAR
VERSION:2.0
PRODID:-//Založba Goga - ECPv6.15.18//NONSGML v1.0//EN
CALSCALE:GREGORIAN
METHOD:PUBLISH
X-WR-CALNAME:Založba Goga
X-ORIGINAL-URL:https://www.goga.si
X-WR-CALDESC:Dogodki za Založba Goga
REFRESH-INTERVAL;VALUE=DURATION:PT1H
X-Robots-Tag:noindex
X-PUBLISHED-TTL:PT1H
BEGIN:VTIMEZONE
TZID:Europe/Ljubljana
BEGIN:DAYLIGHT
TZOFFSETFROM:+0100
TZOFFSETTO:+0200
TZNAME:CEST
DTSTART:20240331T010000
END:DAYLIGHT
BEGIN:STANDARD
TZOFFSETFROM:+0200
TZOFFSETTO:+0100
TZNAME:CET
DTSTART:20241027T010000
END:STANDARD
BEGIN:DAYLIGHT
TZOFFSETFROM:+0100
TZOFFSETTO:+0200
TZNAME:CEST
DTSTART:20250330T010000
END:DAYLIGHT
BEGIN:STANDARD
TZOFFSETFROM:+0200
TZOFFSETTO:+0100
TZNAME:CET
DTSTART:20251026T010000
END:STANDARD
BEGIN:DAYLIGHT
TZOFFSETFROM:+0100
TZOFFSETTO:+0200
TZNAME:CEST
DTSTART:20260329T010000
END:DAYLIGHT
BEGIN:STANDARD
TZOFFSETFROM:+0200
TZOFFSETTO:+0100
TZNAME:CET
DTSTART:20261025T010000
END:STANDARD
END:VTIMEZONE
BEGIN:VEVENT
DTSTART;TZID=Europe/Ljubljana:20250821T200000
DTEND;TZID=Europe/Ljubljana:20250821T210000
DTSTAMP:20260422T202031
CREATED:20250616T074819Z
LAST-MODIFIED:20251107T075835Z
UID:36649-1755806400-1755810000@www.goga.si
SUMMARY:Jadran\, mesto zločina?; Jurica Pavičić in Jedrt Jež Furlan /  Literarni večer
DESCRIPTION:Jurica Pavičić je eden najuspešnejših hrvaških avtorjev kriminalk\, ki je za svoja dela prejel mnogo tujih nagrad in velja tudi za enega najvplivnejših komentatorjev družbenih in kulturnih fenomenov na Hrvaškem. Lansko leto je pri Založbi Goga izšla njegova kriminalka Rdeča voda\, ki pripoveduje o izginotju mlade ženske iz mesteca v bližini Splita. O njegovi izjemno plodoviti pisateljski poti bo z avtorjem spregovorila Jedrt Jež Furlan.
URL:https://www.goga.si/dogodek/jadran-mesto-zlocina-jurica-pavicic-in-jedrt-jez-furlan-literarni-vecer/
CATEGORIES:Literarni večer,Novomeški poletni večeri 2025
END:VEVENT
END:VCALENDAR