BEGIN:VCALENDAR
VERSION:2.0
PRODID:-//Založba Goga - ECPv6.15.18//NONSGML v1.0//EN
CALSCALE:GREGORIAN
METHOD:PUBLISH
X-WR-CALNAME:Založba Goga
X-ORIGINAL-URL:https://www.goga.si
X-WR-CALDESC:Dogodki za Založba Goga
REFRESH-INTERVAL;VALUE=DURATION:PT1H
X-Robots-Tag:noindex
X-PUBLISHED-TTL:PT1H
BEGIN:VTIMEZONE
TZID:Europe/Ljubljana
BEGIN:DAYLIGHT
TZOFFSETFROM:+0100
TZOFFSETTO:+0200
TZNAME:CEST
DTSTART:20230326T010000
END:DAYLIGHT
BEGIN:STANDARD
TZOFFSETFROM:+0200
TZOFFSETTO:+0100
TZNAME:CET
DTSTART:20231029T010000
END:STANDARD
BEGIN:DAYLIGHT
TZOFFSETFROM:+0100
TZOFFSETTO:+0200
TZNAME:CEST
DTSTART:20240331T010000
END:DAYLIGHT
BEGIN:STANDARD
TZOFFSETFROM:+0200
TZOFFSETTO:+0100
TZNAME:CET
DTSTART:20241027T010000
END:STANDARD
BEGIN:DAYLIGHT
TZOFFSETFROM:+0100
TZOFFSETTO:+0200
TZNAME:CEST
DTSTART:20250330T010000
END:DAYLIGHT
BEGIN:STANDARD
TZOFFSETFROM:+0200
TZOFFSETTO:+0100
TZNAME:CET
DTSTART:20251026T010000
END:STANDARD
END:VTIMEZONE
BEGIN:VEVENT
DTSTART;TZID=Europe/Ljubljana:20240510T200000
DTEND;TZID=Europe/Ljubljana:20240510T210000
DTSTAMP:20260423T232720
CREATED:20240506T115023Z
LAST-MODIFIED:20240506T115023Z
UID:31257-1715371200-1715374800@www.goga.si
SUMMARY:Knjigarniški kviz
DESCRIPTION:Tokratni kviz bo kviz o filmu. \nVabljeni\, da se nam pridružite in svojo ekipo prijavite na: knjigarnagoga@goga.si ali 15 minut pred dogodkom. \nKvizi na različne teme bodo potekali na naključen petek enkrat v mesecu.
URL:https://www.goga.si/dogodek/knjigarniski-kviz-2/
LOCATION:Knjigarna in kavarna Goga
CATEGORIES:Kviz
ATTACH;FMTTYPE=image/png:https://www.goga.si/wp-content/uploads/Goga-KVIZ-FB-event-banner-2-576x324-1.png
ORGANIZER;CN="Zalo%C5%BEba Goga":MAILTO:goga@goga.si
END:VEVENT
END:VCALENDAR