BEGIN:VCALENDAR
VERSION:2.0
PRODID:-//Založba Goga - ECPv6.15.18//NONSGML v1.0//EN
CALSCALE:GREGORIAN
METHOD:PUBLISH
X-WR-CALNAME:Založba Goga
X-ORIGINAL-URL:https://www.goga.si
X-WR-CALDESC:Dogodki za Založba Goga
REFRESH-INTERVAL;VALUE=DURATION:PT1H
X-Robots-Tag:noindex
X-PUBLISHED-TTL:PT1H
BEGIN:VTIMEZONE
TZID:Europe/Ljubljana
BEGIN:DAYLIGHT
TZOFFSETFROM:+0100
TZOFFSETTO:+0200
TZNAME:CEST
DTSTART:20240331T010000
END:DAYLIGHT
BEGIN:STANDARD
TZOFFSETFROM:+0200
TZOFFSETTO:+0100
TZNAME:CET
DTSTART:20241027T010000
END:STANDARD
BEGIN:DAYLIGHT
TZOFFSETFROM:+0100
TZOFFSETTO:+0200
TZNAME:CEST
DTSTART:20250330T010000
END:DAYLIGHT
BEGIN:STANDARD
TZOFFSETFROM:+0200
TZOFFSETTO:+0100
TZNAME:CET
DTSTART:20251026T010000
END:STANDARD
BEGIN:DAYLIGHT
TZOFFSETFROM:+0100
TZOFFSETTO:+0200
TZNAME:CEST
DTSTART:20260329T010000
END:DAYLIGHT
BEGIN:STANDARD
TZOFFSETFROM:+0200
TZOFFSETTO:+0100
TZNAME:CET
DTSTART:20261025T010000
END:STANDARD
END:VTIMEZONE
BEGIN:VEVENT
DTSTART;TZID=Europe/Ljubljana:20250919T190000
DTEND;TZID=Europe/Ljubljana:20250919T213000
DTSTAMP:20260422T183933
CREATED:20250828T160059Z
LAST-MODIFIED:20250901T114937Z
UID:37527-1758308400-1758317400@www.goga.si
SUMMARY:Knjigarniški kviz: Mladost
DESCRIPTION:Mladost je norost\, pravijo. Obljubljeni čas nedolžnosti in svobode\, opevan v filmih in poeziji. Mladost kot vrlina\, kot nekaj kar nosi v sebi obljubo lepote in uspeha. Ali pa prekletstvo naivnosti? Sprehodili se bomo skozi filme\, glasbo\, pop kulturo in književnost\, ki na tak ali drugačen način prevprašujejo življenja mladih in govori o tem\, kaj pomeni biti mlad po srcu. \nPRAVILA: \nNa kviz se prijavite z ekipo štirih tekmovalcev. Igra bo potekala v krogih\, vsaka od prijavljenih ekip pa bo vsakič dobila svoje vprašanje. Točke se resno seštevajo\, glavno nagrado pa podarja Založba Goga. \nVabljeni\, da se pridružite napeti tekmi in svojo ekipo prijavite na: knjigarnagoga@goga.si ali 15 minut pred dogodkom. \nDogodek je del kulturnih dejavnosti v knjigarni\, ki jo sofinancira Javna agencija za knjigo Republike Slovenije.
URL:https://www.goga.si/dogodek/knjigarniski-kviz-mladost/
LOCATION:Knjigarna in kavarna Goga
CATEGORIES:Kviz
ATTACH;FMTTYPE=image/png:https://www.goga.si/wp-content/uploads/Goga-KVIZ-FB-event-banner-2-576x324-1.png
ORGANIZER;CN="Zalo%C5%BEba Goga":MAILTO:goga@goga.si
END:VEVENT
END:VCALENDAR