BEGIN:VCALENDAR
VERSION:2.0
PRODID:-//Založba Goga - ECPv6.15.18//NONSGML v1.0//EN
CALSCALE:GREGORIAN
METHOD:PUBLISH
X-WR-CALNAME:Založba Goga
X-ORIGINAL-URL:https://www.goga.si
X-WR-CALDESC:Dogodki za Založba Goga
REFRESH-INTERVAL;VALUE=DURATION:PT1H
X-Robots-Tag:noindex
X-PUBLISHED-TTL:PT1H
BEGIN:VTIMEZONE
TZID:Europe/Ljubljana
BEGIN:DAYLIGHT
TZOFFSETFROM:+0100
TZOFFSETTO:+0200
TZNAME:CEST
DTSTART:20230326T010000
END:DAYLIGHT
BEGIN:STANDARD
TZOFFSETFROM:+0200
TZOFFSETTO:+0100
TZNAME:CET
DTSTART:20231029T010000
END:STANDARD
BEGIN:DAYLIGHT
TZOFFSETFROM:+0100
TZOFFSETTO:+0200
TZNAME:CEST
DTSTART:20240331T010000
END:DAYLIGHT
BEGIN:STANDARD
TZOFFSETFROM:+0200
TZOFFSETTO:+0100
TZNAME:CET
DTSTART:20241027T010000
END:STANDARD
BEGIN:DAYLIGHT
TZOFFSETFROM:+0100
TZOFFSETTO:+0200
TZNAME:CEST
DTSTART:20250330T010000
END:DAYLIGHT
BEGIN:STANDARD
TZOFFSETFROM:+0200
TZOFFSETTO:+0100
TZNAME:CET
DTSTART:20251026T010000
END:STANDARD
END:VTIMEZONE
BEGIN:VEVENT
DTSTART;TZID=Europe/Ljubljana:20240516T200000
DTEND;TZID=Europe/Ljubljana:20240516T210000
DTSTAMP:20260423T232955
CREATED:20240506T115646Z
LAST-MODIFIED:20240506T132354Z
UID:31768-1715889600-1715893200@www.goga.si
SUMMARY:Pogovorni večer z Janijem Virkom o knjigi Vrnitev domov
DESCRIPTION:Pogovor vodi Carmen L. Oven \nO knjigi: \nKaj stori človek\, ko se v srednjih letih zave\, da se njegov čas neizogibno izteka? Da je življenje izgubilo zalet in morda tudi smisel? Da svet drvi v negotovo\, grozečo prihodnost? \nVse to preveva Blaža Rowenskega\, prevajalca\, ki se je zaradi ljubezni ustalil v Nemčiji\, si tam ustvaril družino in zdaj z ženo Sabine živi v Berlinu. Njuna otroka sta nedavno zapustila gnezdo\, žena je večino dneva v službi\, Blaž pa najraje tiči v stanovanju in se izgublja v iskanju pravih besed. Ko ga nenavaden splet okoliščin prisili\, da se začne pogosteje vračati v Ljubljano\, mesto svoje mladosti\, se v njegovem malem\, predvidljivem svetu pokažejo razpoke in skoznje zaveje svež piš življenja. Se mu bo prepustil in našel nov smisel\, novo ljubezen\, nov dom? \nO avtorju: \nJani Virk je pisatelj in prevajalec\, zaposlen na RTV SLO kot urednik igranega programa. Diplomiral je iz nemškega jezika in primerjalne književnosti na Filozofski fakulteti v Ljubljani\, kjer je tudi doktoriral. Doslej je izdal osemnajst avtorskih del: deset romanov\, pet knjig kratke proze\, pesniško zbirko\, knjigo esejev in znanstveno študijo. Je prejemnik številnih nagrad\, med drugim nagrade Prešernovega sklada in Župančičeve nagrade.
URL:https://www.goga.si/dogodek/literarni-vecer-jani-virk/
LOCATION:Knjigarna in kavarna Goga
CATEGORIES:Literarni večer
ATTACH;FMTTYPE=image/jpeg:https://www.goga.si/wp-content/uploads/Jani-Virk_foto_Mike-Crawford.jpg
ORGANIZER;CN="Zalo%C5%BEba Goga":MAILTO:goga@goga.si
END:VEVENT
END:VCALENDAR