BEGIN:VCALENDAR
VERSION:2.0
PRODID:-//Založba Goga - ECPv6.15.18//NONSGML v1.0//EN
CALSCALE:GREGORIAN
METHOD:PUBLISH
X-WR-CALNAME:Založba Goga
X-ORIGINAL-URL:https://www.goga.si
X-WR-CALDESC:Dogodki za Založba Goga
REFRESH-INTERVAL;VALUE=DURATION:PT1H
X-Robots-Tag:noindex
X-PUBLISHED-TTL:PT1H
BEGIN:VTIMEZONE
TZID:Europe/Ljubljana
BEGIN:DAYLIGHT
TZOFFSETFROM:+0100
TZOFFSETTO:+0200
TZNAME:CEST
DTSTART:20230326T010000
END:DAYLIGHT
BEGIN:STANDARD
TZOFFSETFROM:+0200
TZOFFSETTO:+0100
TZNAME:CET
DTSTART:20231029T010000
END:STANDARD
BEGIN:DAYLIGHT
TZOFFSETFROM:+0100
TZOFFSETTO:+0200
TZNAME:CEST
DTSTART:20240331T010000
END:DAYLIGHT
BEGIN:STANDARD
TZOFFSETFROM:+0200
TZOFFSETTO:+0100
TZNAME:CET
DTSTART:20241027T010000
END:STANDARD
BEGIN:DAYLIGHT
TZOFFSETFROM:+0100
TZOFFSETTO:+0200
TZNAME:CEST
DTSTART:20250330T010000
END:DAYLIGHT
BEGIN:STANDARD
TZOFFSETFROM:+0200
TZOFFSETTO:+0100
TZNAME:CET
DTSTART:20251026T010000
END:STANDARD
END:VTIMEZONE
BEGIN:VEVENT
DTSTART;TZID=Europe/Ljubljana:20240530T200000
DTEND;TZID=Europe/Ljubljana:20240530T210000
DTSTAMP:20260423T232552
CREATED:20240506T124826Z
LAST-MODIFIED:20240506T130432Z
UID:31773-1717099200-1717102800@www.goga.si
SUMMARY:Pogovorni večer z Maticem Ačkom o pesniški zbirki Rekviem za sneg
DESCRIPTION:Pogovor bo vodila Anja Pavlin. \nRekviem za sneg je težko pričakovani pesniški prvenec najuspešnejšega slovenskega slemovskega pesnika\, glasbenika\, oblikovalca ter vsestranskega ustvarjalca Matica\nAčka (1991\, Maribor). Pesniška zbirka predstavlja pretresljivo družbenokritično in intimno izpoved posameznika ter prikazuje sodobni duh časa skozi pesmi\, ki so\nizjemno komunikativne in angažirane. Pesnik se loteva najrazličnejših vsebin\, od okoljske problematike\, ki predstavlja glavni tematski fokus zbirke\, do prevpraševanja\nsodobnih družbenih mehanizmov ali reflektiranja bivanjskih vprašanj ter lastne pozicije v svetu. V svoje pisanje Ačko vešče vključuje prvine humorja\, sarkazma ter\nironije\, na drugi strani pa se kot pesnik s svojo izrazito čuječo držo in mestoma intimno pisavo odpira navzven\, pri čemer se ne boji pokazati svoje ranljivosti ali\nizraziti svoje eksistencialne zaskrbljenosti ob grožnji vse bolj katastrofične usode\, ki zaradi okoljske krize preti svetu in človeštvu. Njegova perspektiva je včasih\npanoramska\, včasih generacijska oz. kolektivna\, včasih subjektivna\, intimna oz. individualna. Verzi z izrazitimi liričnimi poudarki ter izraženim ritmom pogosto\nprehajajo v pripovednost\, kar je zagotovo dediščina avtorjevega dolgoletnega ukvarjanja s slamovsko poezijo.\nPesmi in verzi za pričujočo pesniško zbirko so nastajali v zadnjih petih letih\, intenzivneje pa v zadnjem letu. Zbirka vsebuje 33 pesmi\, nekatere pesmi so\nrazdeljene v pesniške cikle (npr. Deklica\, Lützerath\, V kraljestvu Zlatoroga\, Mitologije vročih cest). Zbirko Rekviem za sneg je založil in izdal Mladinski kulturni center\nMaribor\, izšla je v knjižni zbirki ‘Ko te napiše knjiga’\, uredila pa jo je Petra Kolmančič. Matic Ačko je zbirko opremil tudi z lastnimi ilustracijami in zasnoval\nnaslovnico. \nPogovor z avtorjem bo  v četrtek\, 30. 5. 2024\, ob 20. uri v Knjigarni in kavarni Goga. \n 
URL:https://www.goga.si/dogodek/literarni-vecer-matic-acko/
LOCATION:Knjigarna in kavarna Goga
CATEGORIES:Literarni večer
ATTACH;FMTTYPE=image/jpeg:https://www.goga.si/wp-content/uploads/GS7_2830_1-scaled.jpg
ORGANIZER;CN="Zalo%C5%BEba Goga":MAILTO:goga@goga.si
END:VEVENT
END:VCALENDAR