BEGIN:VCALENDAR
VERSION:2.0
PRODID:-//Založba Goga - ECPv6.15.18//NONSGML v1.0//EN
CALSCALE:GREGORIAN
METHOD:PUBLISH
X-WR-CALNAME:Založba Goga
X-ORIGINAL-URL:https://www.goga.si
X-WR-CALDESC:Dogodki za Založba Goga
REFRESH-INTERVAL;VALUE=DURATION:PT1H
X-Robots-Tag:noindex
X-PUBLISHED-TTL:PT1H
BEGIN:VTIMEZONE
TZID:Europe/Ljubljana
BEGIN:DAYLIGHT
TZOFFSETFROM:+0100
TZOFFSETTO:+0200
TZNAME:CEST
DTSTART:20230326T010000
END:DAYLIGHT
BEGIN:STANDARD
TZOFFSETFROM:+0200
TZOFFSETTO:+0100
TZNAME:CET
DTSTART:20231029T010000
END:STANDARD
BEGIN:DAYLIGHT
TZOFFSETFROM:+0100
TZOFFSETTO:+0200
TZNAME:CEST
DTSTART:20240331T010000
END:DAYLIGHT
BEGIN:STANDARD
TZOFFSETFROM:+0200
TZOFFSETTO:+0100
TZNAME:CET
DTSTART:20241027T010000
END:STANDARD
BEGIN:DAYLIGHT
TZOFFSETFROM:+0100
TZOFFSETTO:+0200
TZNAME:CEST
DTSTART:20250330T010000
END:DAYLIGHT
BEGIN:STANDARD
TZOFFSETFROM:+0200
TZOFFSETTO:+0100
TZNAME:CET
DTSTART:20251026T010000
END:STANDARD
END:VTIMEZONE
BEGIN:VEVENT
DTSTART;TZID=Europe/Ljubljana:20240911T190000
DTEND;TZID=Europe/Ljubljana:20240911T203000
DTSTAMP:20260423T174549
CREATED:20240904T114418Z
LAST-MODIFIED:20240904T115333Z
UID:32698-1726081200-1726086600@www.goga.si
SUMMARY:Literarni večer: Mirt Komel\, Ana Marwan in Liu Zakrajšek
DESCRIPTION:Dvojni literarni večer bo soočil slovenska avtorja iste generacije\, filozofa in mojstra sodobnega žanra\, Mirta Komela in na Dunaju živečo pisateljico Ano Marwan\, prejemnico nagrade Ingeborg Bachmann. Pogovor se bo osredotočal na njuna romana Akiles (Goga\, 2022) in Lipitsch (Beletrina\, 2023)\, ki sta izšla v razmaku enega leta\, a je moč med njima potegniti kar nekaj vzporednic. V romanu Lipisch Ana Marwan raziskuje notranji svet mrzoljudnega filozofa\, ki nikakor ne uspe spletati niti ljubezni\, roman Akiles pa je avtor pisal pod vtisom Joyceovega Uliksesa\, pripoveduje pa o prepletu usod treh protagonistov v enem samem dnevu.   \nPogovor vodi Liu Zakrajšek.  \nVljudno vabljeni!  \nDogodek so omogočili sofinancerji: JAK in MONM 
URL:https://www.goga.si/dogodek/literarni-vecer-mirt-komel-ana-marwan-in-liu-zakrajsek/
LOCATION:Knjigarna in kavarna Goga
CATEGORIES:Literarni večer
ATTACH;FMTTYPE=image/png:https://www.goga.si/wp-content/uploads/Posnetek-zaslona-2024-09-04-134211.png
ORGANIZER;CN="Zalo%C5%BEba Goga":MAILTO:goga@goga.si
END:VEVENT
END:VCALENDAR