BEGIN:VCALENDAR
VERSION:2.0
PRODID:-//Založba Goga - ECPv6.15.18//NONSGML v1.0//EN
CALSCALE:GREGORIAN
METHOD:PUBLISH
X-WR-CALNAME:Založba Goga
X-ORIGINAL-URL:https://www.goga.si
X-WR-CALDESC:Dogodki za Založba Goga
REFRESH-INTERVAL;VALUE=DURATION:PT1H
X-Robots-Tag:noindex
X-PUBLISHED-TTL:PT1H
BEGIN:VTIMEZONE
TZID:Europe/Ljubljana
BEGIN:DAYLIGHT
TZOFFSETFROM:+0100
TZOFFSETTO:+0200
TZNAME:CEST
DTSTART:20140330T010000
END:DAYLIGHT
BEGIN:STANDARD
TZOFFSETFROM:+0200
TZOFFSETTO:+0100
TZNAME:CET
DTSTART:20141026T010000
END:STANDARD
BEGIN:DAYLIGHT
TZOFFSETFROM:+0100
TZOFFSETTO:+0200
TZNAME:CEST
DTSTART:20150329T010000
END:DAYLIGHT
BEGIN:STANDARD
TZOFFSETFROM:+0200
TZOFFSETTO:+0100
TZNAME:CET
DTSTART:20151025T010000
END:STANDARD
BEGIN:DAYLIGHT
TZOFFSETFROM:+0100
TZOFFSETTO:+0200
TZNAME:CEST
DTSTART:20160327T010000
END:DAYLIGHT
BEGIN:STANDARD
TZOFFSETFROM:+0200
TZOFFSETTO:+0100
TZNAME:CET
DTSTART:20161030T010000
END:STANDARD
END:VTIMEZONE
BEGIN:VEVENT
DTSTART;TZID=Europe/Ljubljana:20150929T190000
DTEND;TZID=Europe/Ljubljana:20150929T190000
DTSTAMP:20260423T173809
CREATED:20200601T091901Z
LAST-MODIFIED:20200601T091901Z
UID:1082-1443553200-1443553200@www.goga.si
SUMMARY:Literarni večer z Vinkom Möderndorferjem v Ljubljani
DESCRIPTION:V torek\, 29.9.\, ob 19. uri bo v klubu Daktari v Ljubljani predstavitev zbirke kratkih zgodb Brskanja. Z avtorjem\, Vinkom Möderndorferjem se bo pogovarjala Carmen L. Oven. O knjigi: Kaj se skriva v pozabljenih škatlah s pismi\, v zgodovinskih arhivih\, v zmedeni zavesti dementnega starčka\, ki poimenuje miško z imenom umrle žene? Kako zgodovina\, zgodbe prednikov vplivajo na našo prihodnost? Se sploh še zavemo absurdnosti naše sedanjosti\, ko gledamo televizijska poročila\, solzave filme? Brskanja ne pristanejo na instant rešitve\, raje odstrejo paleto najintimnejših\, najglobljih človeških čustev. Zbirka kratkih zgodb je tesno povezana celota\, mozaik\, ki vsebuje najboljše lastnosti pisave Vinka Möderndorferja: bralec bo začutil utrip krvi\, ki teče po žilah junakov\, toplino\, odpuščanje\, prefinjeno družbeno kritiko. \n 
URL:https://www.goga.si/dogodek/literarni-vecer-z-vinkom-moderndorferjem-v-ljubljani/
LOCATION:Klub Daktari\, Slovenija
CATEGORIES:Literarni večer
ATTACH;FMTTYPE=image/jpeg:https://www.goga.si/wp-content/uploads/goga-moderndorfer-brskanja-naslovnica-za-web-2.jpg
END:VEVENT
END:VCALENDAR