BEGIN:VCALENDAR
VERSION:2.0
PRODID:-//Založba Goga - ECPv6.15.18//NONSGML v1.0//EN
CALSCALE:GREGORIAN
METHOD:PUBLISH
X-WR-CALNAME:Založba Goga
X-ORIGINAL-URL:https://www.goga.si
X-WR-CALDESC:Dogodki za Založba Goga
REFRESH-INTERVAL;VALUE=DURATION:PT1H
X-Robots-Tag:noindex
X-PUBLISHED-TTL:PT1H
BEGIN:VTIMEZONE
TZID:Europe/Ljubljana
BEGIN:DAYLIGHT
TZOFFSETFROM:+0100
TZOFFSETTO:+0200
TZNAME:CEST
DTSTART:20230326T010000
END:DAYLIGHT
BEGIN:STANDARD
TZOFFSETFROM:+0200
TZOFFSETTO:+0100
TZNAME:CET
DTSTART:20231029T010000
END:STANDARD
BEGIN:DAYLIGHT
TZOFFSETFROM:+0100
TZOFFSETTO:+0200
TZNAME:CEST
DTSTART:20240331T010000
END:DAYLIGHT
BEGIN:STANDARD
TZOFFSETFROM:+0200
TZOFFSETTO:+0100
TZNAME:CET
DTSTART:20241027T010000
END:STANDARD
BEGIN:DAYLIGHT
TZOFFSETFROM:+0100
TZOFFSETTO:+0200
TZNAME:CEST
DTSTART:20250330T010000
END:DAYLIGHT
BEGIN:STANDARD
TZOFFSETFROM:+0200
TZOFFSETTO:+0100
TZNAME:CET
DTSTART:20251026T010000
END:STANDARD
END:VTIMEZONE
BEGIN:VEVENT
DTSTART;TZID=Europe/Ljubljana:20240926T190000
DTEND;TZID=Europe/Ljubljana:20240926T203000
DTSTAMP:20260423T174727
CREATED:20240904T120635Z
LAST-MODIFIED:20240920T111149Z
UID:32706-1727377200-1727382600@www.goga.si
SUMMARY:Michel de Montaigne\, prvi med esejisti: Branko Madžarevič in Janez Penca
DESCRIPTION:Prevajalec Branko Madžarevič\, prejemnik nagrade Prešernovega sklada in Sovretove nagrade\, je več kot petindvajset let prevajal vse tri knjige Esejev francoskega klasika Michela de Montaigna\, ki velja za začetnika literarne zvrsti eseja. O opusu tega velikana evropske književnosti in prevajalski poti\, ki jo je ob njem prehodil Madžarevič\, bo ta spregovoril s častnim meščanom Novega mesta\, prevajalcem Janezom Penco. \nEseji so izšli pri založbi Beletrina.  \nDogodek so omogočili sofinancerji: JAK in MONM 
URL:https://www.goga.si/dogodek/michel-de-montaigne-prvi-med-esejisti-branko-madzarevic-in-janez-penca/
LOCATION:Knjigarna Goga\, Glavni trg 6\, Novo mesto\, 8000\, Slovenija
CATEGORIES:Literarni večer
ATTACH;FMTTYPE=image/png:https://www.goga.si/wp-content/uploads/3D_Montaigne-Eseji_I.png
ORGANIZER;CN="Zalo%C5%BEba Goga":MAILTO:goga@goga.si
END:VEVENT
END:VCALENDAR