BEGIN:VCALENDAR
VERSION:2.0
PRODID:-//Založba Goga - ECPv6.15.18//NONSGML v1.0//EN
CALSCALE:GREGORIAN
METHOD:PUBLISH
X-WR-CALNAME:Založba Goga
X-ORIGINAL-URL:https://www.goga.si
X-WR-CALDESC:Dogodki za Založba Goga
REFRESH-INTERVAL;VALUE=DURATION:PT1H
X-Robots-Tag:noindex
X-PUBLISHED-TTL:PT1H
BEGIN:VTIMEZONE
TZID:Europe/Ljubljana
BEGIN:DAYLIGHT
TZOFFSETFROM:+0100
TZOFFSETTO:+0200
TZNAME:CEST
DTSTART:20240331T010000
END:DAYLIGHT
BEGIN:STANDARD
TZOFFSETFROM:+0200
TZOFFSETTO:+0100
TZNAME:CET
DTSTART:20241027T010000
END:STANDARD
BEGIN:DAYLIGHT
TZOFFSETFROM:+0100
TZOFFSETTO:+0200
TZNAME:CEST
DTSTART:20250330T010000
END:DAYLIGHT
BEGIN:STANDARD
TZOFFSETFROM:+0200
TZOFFSETTO:+0100
TZNAME:CET
DTSTART:20251026T010000
END:STANDARD
BEGIN:DAYLIGHT
TZOFFSETFROM:+0100
TZOFFSETTO:+0200
TZNAME:CEST
DTSTART:20260329T010000
END:DAYLIGHT
BEGIN:STANDARD
TZOFFSETFROM:+0200
TZOFFSETTO:+0100
TZNAME:CET
DTSTART:20261025T010000
END:STANDARD
END:VTIMEZONE
BEGIN:VEVENT
DTSTART;TZID=Europe/Ljubljana:20250823T100000
DTEND;TZID=Europe/Ljubljana:20250823T110000
DTSTAMP:20260422T201440
CREATED:20250616T074913Z
LAST-MODIFIED:20251107T075839Z
UID:36650-1755943200-1755946800@www.goga.si
SUMMARY:Muca Copatarica; Lutkovno gledališče Fru Fru / Predstava za otroke
DESCRIPTION:Priljubljena pravljica Ele Peroci o muci\, ki nerednim otrokom odnese copate\, v izvedbi Lutkovnega gledališča Fru Fru\, enega prvih potujočih gledališč pri nas. Kdo ve\, ali bo muca otrokom vrnila njihove copatke?
URL:https://www.goga.si/dogodek/muca-copatarica-lutkovno-gledalisce-fru-fru-predstava-za-otroke/
CATEGORIES:Novomeški poletni večeri 2025
END:VEVENT
END:VCALENDAR