BEGIN:VCALENDAR
VERSION:2.0
PRODID:-//Založba Goga - ECPv6.15.18//NONSGML v1.0//EN
CALSCALE:GREGORIAN
METHOD:PUBLISH
X-WR-CALNAME:Založba Goga
X-ORIGINAL-URL:https://www.goga.si
X-WR-CALDESC:Dogodki za Založba Goga
REFRESH-INTERVAL;VALUE=DURATION:PT1H
X-Robots-Tag:noindex
X-PUBLISHED-TTL:PT1H
BEGIN:VTIMEZONE
TZID:Europe/Ljubljana
BEGIN:DAYLIGHT
TZOFFSETFROM:+0100
TZOFFSETTO:+0200
TZNAME:CEST
DTSTART:20230326T010000
END:DAYLIGHT
BEGIN:STANDARD
TZOFFSETFROM:+0200
TZOFFSETTO:+0100
TZNAME:CET
DTSTART:20231029T010000
END:STANDARD
BEGIN:DAYLIGHT
TZOFFSETFROM:+0100
TZOFFSETTO:+0200
TZNAME:CEST
DTSTART:20240331T010000
END:DAYLIGHT
BEGIN:STANDARD
TZOFFSETFROM:+0200
TZOFFSETTO:+0100
TZNAME:CET
DTSTART:20241027T010000
END:STANDARD
BEGIN:DAYLIGHT
TZOFFSETFROM:+0100
TZOFFSETTO:+0200
TZNAME:CEST
DTSTART:20250330T010000
END:DAYLIGHT
BEGIN:STANDARD
TZOFFSETFROM:+0200
TZOFFSETTO:+0100
TZNAME:CET
DTSTART:20251026T010000
END:STANDARD
END:VTIMEZONE
BEGIN:VEVENT
DTSTART;TZID=Europe/Ljubljana:20240418T190000
DTEND;TZID=Europe/Ljubljana:20240418T200000
DTSTAMP:20260424T003728
CREATED:20240405T080056Z
LAST-MODIFIED:20240405T081358Z
UID:31261-1713466800-1713470400@www.goga.si
SUMMARY:Pogovorni večer z Jedrt Maležič o knjigi Dvoliki
DESCRIPTION:Dvoliki so zataknjeni  v okoliščine\, ki jih dojemajo\, kot da se dogajajo samo njim. Pogostokrat gre za  ljudi v življenjskem obdobju\, ko resno razmišljajo\, da je nastopil pravi čas\, da si uredijo eksistenco. To jim povzroča še dodatno in nezavedno stisko\, ki se kaže v različnih oblikah\, kot je otročja zagledanost v morebitno partnerko\, nevrotično vzgajanje mlajših ljubimcev\, iskanje svojega mesta v hierarhiji pivskih prijateljev\, razpetost med ugajanjem tako družini kot oblastnemu šefu\, in podobno. Na neki način si izmišljujejo strategije načinov preživetja\, bodisi s samoprepričevanjem\, potapljanjem v preganjavico\, ponovnem obisku prostora nekdanje travme\, predvsem pa z nezavednim prelaganjem odgovornosti za lastna dejanja in občutke na druge. Dvoliki se ne zavedajo\, da se je treba za dosego odraslosti in notranje pomirjenosti včasih čemu tudi odreči\, sprejeti napake in nepopolnosti drugega\, predvsem pa priznati lastne. \nZgodbe na strukturno spreten in slogovno iskriv način podajajo zapletena psihološka stanja\, umeščena v zgolj en trenutek iz vsakdana\, iz katerega pa lahko vseeno\, predvsem zaradi  pomenljivih detajlov\, dobimo celostno sliko o življenjih protagonistk in protagonistov vse do njihovih otroških let. Jedrt Maležič je do svojih literarnih junakov nepopustljiva. Ne odpušča jim\, ne boža jih v smeri dlake\, ne sočustvuje. Znajti se morajo sami\, kajti le tako bodo enkrat tudi dozoreli. Brez bergel\, brez pocukranega pomilovanja. \nPogovor vodi Iztok Ilc. \nO avtorici \n \nJedrt Maležič (1979) je pisateljica in književna prevajalka iz angleščine in francoščine. Leta 2016 je izdala kritiško dobro sprejeti kratkoprozni zbirki Težkomentalci (nominacija za najboljši prvenec) in Bojne barve (nominacija za nagrado novo mesto). V letu 2018 je sledil roman Vija vaja ven. Njeno delo Bojne barve je bilo prevedeno v makedonščino (Begemot\, 2019)\, zbirka Težkomentalci pa je izšla v španščini (Litterae Slovenicae). Njen roman Napol morilke (Goga\, 2021) je bil nominiran za nagrado kresnik\, pri Založbi Goga pa je v letu 2022 izšel njen roman Križci\, krožci.
URL:https://www.goga.si/dogodek/pogovorni-vecer-z-jedrt-malezic-o-knjigi-dvoliki/
LOCATION:Knjigarna in kavarna Goga
CATEGORIES:Literarni večer
ATTACH;FMTTYPE=image/jpeg:https://www.goga.si/wp-content/uploads/Goga-Malezic-Dvoliki-naslovnica-scaled.jpg
ORGANIZER;CN="Zalo%C5%BEba Goga":MAILTO:goga@goga.si
END:VEVENT
END:VCALENDAR