BEGIN:VCALENDAR
VERSION:2.0
PRODID:-//Založba Goga - ECPv6.15.18//NONSGML v1.0//EN
CALSCALE:GREGORIAN
METHOD:PUBLISH
X-WR-CALNAME:Založba Goga
X-ORIGINAL-URL:https://www.goga.si
X-WR-CALDESC:Dogodki za Založba Goga
REFRESH-INTERVAL;VALUE=DURATION:PT1H
X-Robots-Tag:noindex
X-PUBLISHED-TTL:PT1H
BEGIN:VTIMEZONE
TZID:Europe/Ljubljana
BEGIN:DAYLIGHT
TZOFFSETFROM:+0100
TZOFFSETTO:+0200
TZNAME:CEST
DTSTART:20240331T010000
END:DAYLIGHT
BEGIN:STANDARD
TZOFFSETFROM:+0200
TZOFFSETTO:+0100
TZNAME:CET
DTSTART:20241027T010000
END:STANDARD
BEGIN:DAYLIGHT
TZOFFSETFROM:+0100
TZOFFSETTO:+0200
TZNAME:CEST
DTSTART:20250330T010000
END:DAYLIGHT
BEGIN:STANDARD
TZOFFSETFROM:+0200
TZOFFSETTO:+0100
TZNAME:CET
DTSTART:20251026T010000
END:STANDARD
BEGIN:DAYLIGHT
TZOFFSETFROM:+0100
TZOFFSETTO:+0200
TZNAME:CEST
DTSTART:20260329T010000
END:DAYLIGHT
BEGIN:STANDARD
TZOFFSETFROM:+0200
TZOFFSETTO:+0100
TZNAME:CET
DTSTART:20261025T010000
END:STANDARD
END:VTIMEZONE
BEGIN:VEVENT
DTSTART;TZID=Europe/Ljubljana:20250819T200000
DTEND;TZID=Europe/Ljubljana:20250819T210000
DTSTAMP:20260422T201512
CREATED:20250616T074633Z
LAST-MODIFIED:20251107T075831Z
UID:36647-1755633600-1755637200@www.goga.si
SUMMARY:Predstavitev biografije Mance Košir; Ladeja Godina Košir\, Tina Košir\, Žiga Valetič in Carmen L. Oven / Pogovorni večer
DESCRIPTION:Obsežna biografska knjiga o življenju in delu Mance Košir\, Slovenke\, ki nas je zaznamovala\, je sestavljena iz avtorefleksivnih odlomkov iz Mančine zelo obsežne zapuščine. Preden se je poslovila\, je izrazila željo\, da bi iz prav teh zapisov njen dolgoletni prijatelj\, pisatelj\, oblikovalec in urednik Žiga Valetič sestavil biografijo. Tako je nastala knjiga Manj je mene\, bolj sem Jaz\, ki nas vodi skozi Mančin notranji svet in postavlja v širši kontekst neizmeren pomen njenega dela\, tudi na področju bralne kulture. Na odru se bosta Žigi pridružili tudi Mančini hčeri\, Tina Košir in Ladeja Godina Košir. O nastanku biografske knjige in Mančinem izjemnem življenju bo z njimi spregovorila Carmen L. Oven. \nDogodek je del kulturnih dejavnosti v knjigarni\, ki jo sofinancira Javna agencija za knjigo Republike Slovenije.
URL:https://www.goga.si/dogodek/predstavitev-biografije-mance-kosir-ladeja-godina-kosir-tina-kosir-ziga-valetic-in-carmen-l-oven-pogovorni-vecer/
CATEGORIES:Novomeški poletni večeri 2025,pogovorni večer
END:VEVENT
END:VCALENDAR