BEGIN:VCALENDAR
VERSION:2.0
PRODID:-//Založba Goga - ECPv6.15.18//NONSGML v1.0//EN
CALSCALE:GREGORIAN
METHOD:PUBLISH
X-WR-CALNAME:Založba Goga
X-ORIGINAL-URL:https://www.goga.si
X-WR-CALDESC:Dogodki za Založba Goga
REFRESH-INTERVAL;VALUE=DURATION:PT1H
X-Robots-Tag:noindex
X-PUBLISHED-TTL:PT1H
BEGIN:VTIMEZONE
TZID:Europe/Ljubljana
BEGIN:DAYLIGHT
TZOFFSETFROM:+0100
TZOFFSETTO:+0200
TZNAME:CEST
DTSTART:20180325T010000
END:DAYLIGHT
BEGIN:STANDARD
TZOFFSETFROM:+0200
TZOFFSETTO:+0100
TZNAME:CET
DTSTART:20181028T010000
END:STANDARD
BEGIN:DAYLIGHT
TZOFFSETFROM:+0100
TZOFFSETTO:+0200
TZNAME:CEST
DTSTART:20190331T010000
END:DAYLIGHT
BEGIN:STANDARD
TZOFFSETFROM:+0200
TZOFFSETTO:+0100
TZNAME:CET
DTSTART:20191027T010000
END:STANDARD
BEGIN:DAYLIGHT
TZOFFSETFROM:+0100
TZOFFSETTO:+0200
TZNAME:CEST
DTSTART:20200329T010000
END:DAYLIGHT
BEGIN:STANDARD
TZOFFSETFROM:+0200
TZOFFSETTO:+0100
TZNAME:CET
DTSTART:20201025T010000
END:STANDARD
END:VTIMEZONE
BEGIN:VEVENT
DTSTART;TZID=Europe/Ljubljana:20190611T190000
DTEND;TZID=Europe/Ljubljana:20190611T190000
DTSTAMP:20260426T032531
CREATED:20200601T092031Z
LAST-MODIFIED:20200601T092031Z
UID:1115-1560279600-1560279600@www.goga.si
SUMMARY:Predstavitev knjige Funny
DESCRIPTION:V torek\, 11. 6.\, ob 19. uri vas vabimo v Vodnikovo domačijo na predstavitev nove knjige izpod peresa Mihe Mazzinija z naslovom Funny. \nRoman govori o paru v zakonski krizi\, ki se odpravi v Afriko\, misleč da bosta tam lahko rešila svoje težave. Seveda ju čaka presenečenje… \nGre za eno najbolj svetlih in duhovitih Mazzinijevih knjig\, ki sledi reklu: prelahko je pisati žalostne knjige o žalostnih rečeh. \n \nPogovor z avtorjem bo moderirala Desa Muck. \n \nMed 17.00-22.00 bo potekal sejem knjig naše založbe\, možno jih bo kupiti po znižanih cenah. \n \nLepo vabljeni! \n \nLepo vabljeni!
URL:https://www.goga.si/dogodek/predstavitev-knjige-funny/
LOCATION:Vodnikova domačija Šiška\, Vodnikova cesta 65\, Ljubljana\, 1000
CATEGORIES:pogovorni večer
ATTACH;FMTTYPE=image/jpeg:https://www.goga.si/wp-content/uploads/goga-mazzini-funny-naslovnica-3d-1.jpg
END:VEVENT
END:VCALENDAR