BEGIN:VCALENDAR
VERSION:2.0
PRODID:-//Založba Goga - ECPv6.15.18//NONSGML v1.0//EN
CALSCALE:GREGORIAN
METHOD:PUBLISH
X-WR-CALNAME:Založba Goga
X-ORIGINAL-URL:https://www.goga.si
X-WR-CALDESC:Dogodki za Založba Goga
REFRESH-INTERVAL;VALUE=DURATION:PT1H
X-Robots-Tag:noindex
X-PUBLISHED-TTL:PT1H
BEGIN:VTIMEZONE
TZID:Europe/Ljubljana
BEGIN:DAYLIGHT
TZOFFSETFROM:+0100
TZOFFSETTO:+0200
TZNAME:CEST
DTSTART:20230326T010000
END:DAYLIGHT
BEGIN:STANDARD
TZOFFSETFROM:+0200
TZOFFSETTO:+0100
TZNAME:CET
DTSTART:20231029T010000
END:STANDARD
BEGIN:DAYLIGHT
TZOFFSETFROM:+0100
TZOFFSETTO:+0200
TZNAME:CEST
DTSTART:20240331T010000
END:DAYLIGHT
BEGIN:STANDARD
TZOFFSETFROM:+0200
TZOFFSETTO:+0100
TZNAME:CET
DTSTART:20241027T010000
END:STANDARD
BEGIN:DAYLIGHT
TZOFFSETFROM:+0100
TZOFFSETTO:+0200
TZNAME:CEST
DTSTART:20250330T010000
END:DAYLIGHT
BEGIN:STANDARD
TZOFFSETFROM:+0200
TZOFFSETTO:+0100
TZNAME:CET
DTSTART:20251026T010000
END:STANDARD
END:VTIMEZONE
BEGIN:VEVENT
DTSTART;TZID=Europe/Ljubljana:20241024T190000
DTEND;TZID=Europe/Ljubljana:20241024T203000
DTSTAMP:20260423T162551
CREATED:20241011T100701Z
LAST-MODIFIED:20241011T100701Z
UID:32836-1729796400-1729801800@www.goga.si
SUMMARY:Predstavitev romana Zajtrk prvakinj
DESCRIPTION:V Knjigarni Goga bomo gostili pisateljico Liu Zakrajšek in njen romaneskni prvenec Zajtrk prvakinj\, ki je izšel to pomlad. Pogovor z avtorico bo vodil Andraž Prus. \nO knjigi\nZajtrk prvakinj je knjižni prvenec Liu Zakrajšek\, v katerem se s protagonistko odpravljamo na tri različna študentska delovna mesta: v kinematograf\, kulturni dom in knjigarno. Ko ne obiskuje predavanj ali dela\, preživlja čas v majhni in zatohli podstrešni sobici stanovanja\, ki si ga deli z impulzivno in kaotično Vesno ter organizirano in resno Pio. Njihova dinamika se skozi poglavja bolj ali manj dramatično gradi in spet ruši\, vse to pa se dogaja na ozadju širših bivanjskih kriz\, ki jih doživlja mlajša generacija\, ki bo šele vstopila na trg dela – od prekarnosti in previsokih cen nepremičnin do vedno hujše razredne segregacije\, osamljenosti in slabega mentalnega zdravja. Mlade osebe v romanu\, ki naj bi torej razmišljale o svojih sanjah in prihodnosti\, se lahko ukvarjajo kvečjemu s tem\, kako zaslužiti za naslednjo najemnino. Roman\, ki si navdih za naslov izposoja pri Kurtu Vonnegutu\, je subtilna satira sodobnega časa\, ki jo nujno potrebujemo. Pa dober tek!
URL:https://www.goga.si/dogodek/predstavitev-romana-zajtrk-prvakinj/
LOCATION:Knjigarna in kavarna Goga
CATEGORIES:Literarni večer
ATTACH;FMTTYPE=image/jpeg:https://www.goga.si/wp-content/uploads/Zakrajsek-Zajtrk-prvakinj.jpg
ORGANIZER;CN="Zalo%C5%BEba Goga":MAILTO:goga@goga.si
END:VEVENT
END:VCALENDAR