BEGIN:VCALENDAR
VERSION:2.0
PRODID:-//Založba Goga - ECPv6.15.18//NONSGML v1.0//EN
CALSCALE:GREGORIAN
METHOD:PUBLISH
X-WR-CALNAME:Založba Goga
X-ORIGINAL-URL:https://www.goga.si
X-WR-CALDESC:Dogodki za Založba Goga
REFRESH-INTERVAL;VALUE=DURATION:PT1H
X-Robots-Tag:noindex
X-PUBLISHED-TTL:PT1H
BEGIN:VTIMEZONE
TZID:Europe/Ljubljana
BEGIN:DAYLIGHT
TZOFFSETFROM:+0100
TZOFFSETTO:+0200
TZNAME:CEST
DTSTART:20240331T010000
END:DAYLIGHT
BEGIN:STANDARD
TZOFFSETFROM:+0200
TZOFFSETTO:+0100
TZNAME:CET
DTSTART:20241027T010000
END:STANDARD
BEGIN:DAYLIGHT
TZOFFSETFROM:+0100
TZOFFSETTO:+0200
TZNAME:CEST
DTSTART:20250330T010000
END:DAYLIGHT
BEGIN:STANDARD
TZOFFSETFROM:+0200
TZOFFSETTO:+0100
TZNAME:CET
DTSTART:20251026T010000
END:STANDARD
BEGIN:DAYLIGHT
TZOFFSETFROM:+0100
TZOFFSETTO:+0200
TZNAME:CEST
DTSTART:20260329T010000
END:DAYLIGHT
BEGIN:STANDARD
TZOFFSETFROM:+0200
TZOFFSETTO:+0100
TZNAME:CET
DTSTART:20261025T010000
END:STANDARD
END:VTIMEZONE
BEGIN:VEVENT
DTSTART;TZID=Europe/Ljubljana:20250424T193000
DTEND;TZID=Europe/Ljubljana:20250424T210000
DTSTAMP:20260423T010650
CREATED:20250415T100044Z
LAST-MODIFIED:20250415T100449Z
UID:36116-1745523000-1745528400@www.goga.si
SUMMARY:Predstavitev romana Ženske v temi z Majo Haderlap
DESCRIPTION:Vabimo vas na predstavitev najnovejšega romana mednarodno priznane pisateljice Maje Haderlap\, ki bo za to priložnost obiskala Slovenijo. Na literarnem večeru v Atriju ZRC bo v družbi Prešernove nagrajenke Nataše Kramberger predstavila svoj težko pričakovani drugi roman Ženske v temi\, ki je v prevodu Štefana Vevarja zaživel v slovenščini. V njem pripoveduje o življenju treh generacij žensk\, o njihovi vpetosti v vsiljene in ponotranjene modele ter o boju za avtonomijo. Za izvirnik je bila avtorica nominirana za avstrijsko književno nagrado. \nMaja Haderlap je v svet literature stopila kot pesnica\, slovenski bralci pa jo najbolj poznamo po romanu Angel pozabe\, za katerega je prejela vrsto pomembnih nagrad: nagrado Ingeborg Bachmann\, nagrado Bruna Kreiskyja za politično knjigo\, književno nagrado rauris\, nagrado prix du premier roman étranger v Franciji\, nagrado Maxa Frischa in nagrado Christine Lavant. S svojim ustvarjanjem je pomembno zaznamovala slovenski literarni prostor. \nDogodek poteka v sodelovanju z ZRC SAZU.
URL:https://www.goga.si/dogodek/predstavitev-romana-zenske-v-temi-z-majo-haderlap/
LOCATION:Atrij ZRC\, Novi trg 2\, Ljubljana\, 1000\, Slovenia
ATTACH;FMTTYPE=image/png:https://www.goga.si/wp-content/uploads/Goga-Haderlap-web-banner-mobile.png
ORGANIZER;CN="Zalo%C5%BEba Goga":MAILTO:goga@goga.si
END:VEVENT
END:VCALENDAR