BEGIN:VCALENDAR
VERSION:2.0
PRODID:-//Založba Goga - ECPv6.15.18//NONSGML v1.0//EN
CALSCALE:GREGORIAN
METHOD:PUBLISH
X-WR-CALNAME:Založba Goga
X-ORIGINAL-URL:https://www.goga.si
X-WR-CALDESC:Dogodki za Založba Goga
REFRESH-INTERVAL;VALUE=DURATION:PT1H
X-Robots-Tag:noindex
X-PUBLISHED-TTL:PT1H
BEGIN:VTIMEZONE
TZID:Europe/Ljubljana
BEGIN:DAYLIGHT
TZOFFSETFROM:+0100
TZOFFSETTO:+0200
TZNAME:CEST
DTSTART:20240331T010000
END:DAYLIGHT
BEGIN:STANDARD
TZOFFSETFROM:+0200
TZOFFSETTO:+0100
TZNAME:CET
DTSTART:20241027T010000
END:STANDARD
BEGIN:DAYLIGHT
TZOFFSETFROM:+0100
TZOFFSETTO:+0200
TZNAME:CEST
DTSTART:20250330T010000
END:DAYLIGHT
BEGIN:STANDARD
TZOFFSETFROM:+0200
TZOFFSETTO:+0100
TZNAME:CET
DTSTART:20251026T010000
END:STANDARD
BEGIN:DAYLIGHT
TZOFFSETFROM:+0100
TZOFFSETTO:+0200
TZNAME:CEST
DTSTART:20260329T010000
END:DAYLIGHT
BEGIN:STANDARD
TZOFFSETFROM:+0200
TZOFFSETTO:+0100
TZNAME:CET
DTSTART:20261025T010000
END:STANDARD
END:VTIMEZONE
BEGIN:VEVENT
DTSTART;TZID=Europe/Ljubljana:20250725T210000
DTEND;TZID=Europe/Ljubljana:20250725T230000
DTSTAMP:20260422T215816
CREATED:20250702T073138Z
LAST-MODIFIED:20250702T080344Z
UID:36878-1753477200-1753484400@www.goga.si
SUMMARY:Rambo Amadeus / Koncert
DESCRIPTION:V sklopu Festivala novomeško poletje in v koprodukciji z Goginimi Novomeškimi poletnimi večeri prihaja na Glavni trg legenda regijskega glasbenega absurda – Rambo Amadeus! Rambo Amadeus (roj. Antonije Pušić) je črnogorski glasbenik\, performer in mojster satirične (samo)ironije\, ki že desetletja združuje jazz\, funk\, rock\, elektroniko\, turbo-folk in humor v edinstven performans. Ne zamudite koncerta v sklopu turneje “Tribute samom sebi”.
URL:https://www.goga.si/dogodek/rambo-amadeus-koncert/
CATEGORIES:Novomeški poletni večeri 2025
END:VEVENT
END:VCALENDAR