BEGIN:VCALENDAR
VERSION:2.0
PRODID:-//Založba Goga - ECPv6.15.18//NONSGML v1.0//EN
CALSCALE:GREGORIAN
METHOD:PUBLISH
X-WR-CALNAME:Založba Goga
X-ORIGINAL-URL:https://www.goga.si
X-WR-CALDESC:Dogodki za Založba Goga
REFRESH-INTERVAL;VALUE=DURATION:PT1H
X-Robots-Tag:noindex
X-PUBLISHED-TTL:PT1H
BEGIN:VTIMEZONE
TZID:Europe/Ljubljana
BEGIN:DAYLIGHT
TZOFFSETFROM:+0100
TZOFFSETTO:+0200
TZNAME:CEST
DTSTART:20190331T010000
END:DAYLIGHT
BEGIN:STANDARD
TZOFFSETFROM:+0200
TZOFFSETTO:+0100
TZNAME:CET
DTSTART:20191027T010000
END:STANDARD
BEGIN:DAYLIGHT
TZOFFSETFROM:+0100
TZOFFSETTO:+0200
TZNAME:CEST
DTSTART:20200329T010000
END:DAYLIGHT
BEGIN:STANDARD
TZOFFSETFROM:+0200
TZOFFSETTO:+0100
TZNAME:CET
DTSTART:20201025T010000
END:STANDARD
BEGIN:DAYLIGHT
TZOFFSETFROM:+0100
TZOFFSETTO:+0200
TZNAME:CEST
DTSTART:20210328T010000
END:DAYLIGHT
BEGIN:STANDARD
TZOFFSETFROM:+0200
TZOFFSETTO:+0100
TZNAME:CET
DTSTART:20211031T010000
END:STANDARD
END:VTIMEZONE
BEGIN:VEVENT
DTSTART;TZID=Europe/Ljubljana:20200919T150000
DTEND;TZID=Europe/Ljubljana:20200919T152500
DTSTAMP:20260425T205705
CREATED:20200915T075808Z
LAST-MODIFIED:20200915T083810Z
UID:5299-1600527600-1600529100@www.goga.si
SUMMARY:Rudi Potepuški - improvizacijska ulična predstava Ulični impro kviz
DESCRIPTION:https://docs.google.com/forms/d/e/1FAIpQLSdkuU99q2TYTb6zMAX1XW87ZWk6Glicge47ghILWZ8n-knliQ/viewform?usp=sf_linkNa ulico prihaja improviziran spopad v znanju zelo pomembnih in izredno nepomembnih dejstev! Pa tudi vseh vmes.  Tekmovalci\, ki jih boste pomagali soustvariti in ki bodo morda izjemno spominjali na vašo zobozdravnico ali na\nvzgojitelja v vrtcu vašega otroka\, bodo postavljeni pred različne naloge\, vi pa jim boste pri tem stali ob strani ali pa njihovo delo še dodatno otežili. Kdo se bo prebil do konca in pobral veliko nagrado? Kdo bo šel za tri tedne smučat na Krvavec\, kdo pa se bo poslovil praznih rok? Kdo bo prejel zlato\, kdo pa cink? Pridite pogledat na ulico! \nIgrajo: Olivija Grafenauer\, Veronika Hana Grubič\, Jošt Jesenovec\, Dino Kapetanović\, Kristjan Kolar\, Mistral Majer\, Luka Piletič\, Sara Šoukal\nKoncept in režija: Jošt Jesenovec\nProdukcija: Društvo za kulturo in izobraževanje IMPRO
URL:https://www.goga.si/dogodek/rudi-potepuski-improvizacijska-ulicna-predstava-ulicni-impro-kviz/
LOCATION:Glavni trg v Novem mestu\, Glavni trg\, Novo mesto\, Slovenija
ORGANIZER;CN="Zalo%C5%BEba Goga":MAILTO:goga@goga.si
END:VEVENT
END:VCALENDAR