BEGIN:VCALENDAR
VERSION:2.0
PRODID:-//Založba Goga - ECPv6.15.18//NONSGML v1.0//EN
CALSCALE:GREGORIAN
METHOD:PUBLISH
X-WR-CALNAME:Založba Goga
X-ORIGINAL-URL:https://www.goga.si
X-WR-CALDESC:Dogodki za Založba Goga
REFRESH-INTERVAL;VALUE=DURATION:PT1H
X-Robots-Tag:noindex
X-PUBLISHED-TTL:PT1H
BEGIN:VTIMEZONE
TZID:Europe/Ljubljana
BEGIN:DAYLIGHT
TZOFFSETFROM:+0100
TZOFFSETTO:+0200
TZNAME:CEST
DTSTART:20220327T010000
END:DAYLIGHT
BEGIN:STANDARD
TZOFFSETFROM:+0200
TZOFFSETTO:+0100
TZNAME:CET
DTSTART:20221030T010000
END:STANDARD
BEGIN:DAYLIGHT
TZOFFSETFROM:+0100
TZOFFSETTO:+0200
TZNAME:CEST
DTSTART:20230326T010000
END:DAYLIGHT
BEGIN:STANDARD
TZOFFSETFROM:+0200
TZOFFSETTO:+0100
TZNAME:CET
DTSTART:20231029T010000
END:STANDARD
BEGIN:DAYLIGHT
TZOFFSETFROM:+0100
TZOFFSETTO:+0200
TZNAME:CEST
DTSTART:20240331T010000
END:DAYLIGHT
BEGIN:STANDARD
TZOFFSETFROM:+0200
TZOFFSETTO:+0100
TZNAME:CET
DTSTART:20241027T010000
END:STANDARD
END:VTIMEZONE
BEGIN:VEVENT
DTSTART;TZID=Europe/Ljubljana:20230519T190000
DTEND;TZID=Europe/Ljubljana:20230521T200000
DTSTAMP:20260425T031409
CREATED:20230511T080535Z
LAST-MODIFIED:20230516T082945Z
UID:17559-1684522800-1684699200@www.goga.si
SUMMARY:SJÓN V SLOVENIJI
DESCRIPTION:V Slovenijo prihaja Sjón\, popularen in prevajan islandski pisatelj\, pesnik\, glasbenik in scenarist\, ki redno in dolgo sodeluje s pevko Björk. Za glasbo in vodilno pesem v filmu Plesalka v temi\, režiserja Larsa von Trierja\, je bil nominiran za glasbenega oskarja in nagrado zlati globus. Poleg mnogih mednarodnih nagrad in prevodov je letos prejel nordijsko nagrado Švedske akdemije. \nPrvi prevod Sjónovega dela v slovenščino je bila knjiga Modra lisica in Deček\, ki ga ni bilo (prevod Anja Zag Golob\, Cankarjeva založba)\, prevod je bil objavljen 2016\, ko je bil Sjón prvič v Sloveniji. \nLetos smo pri Založba Goga objavili prvi del njegove triologije CoDex 1962: Tvoje oči so me videle (prevod Andrej Peric). Gre za zgodbo o stvarjenju\, o sodnem dnevu in bizarnih skušnjavah nadangela Gabrijela; je poezija in dramolet\, zbirka pravljic in sanj. \n  \nPogovori bodo potekali v angleškem jeziku. \n  \nPETEK\, 19. 5.\, OB 19.00\, KAVARNA IN KNJIGARNA GOGA\, NOVO MESTO \nS Sjónom se bo pogovarjal Miha Mazzini\, pisatelj\, kolumnist\, scenarist in režiser. Filmsko srečanje v velikem planu. \n  \nSOBOTA\, 20. 5.\, OB 19.00\, VELIKA DVORANA LUTKOVNEGA GLEDALIŠČA MARIBOR \nModeratorka pogovora bo Anja Zag Golob\, prevajalka\, pesnica\, kolumnistka in urednica pri založbi VigeVageKnjige. Pogovor mojstrice in mojstra pisane\, govorjene besede. Multipraktika na dah. \n  \nNEDELJA\, 21. 5. OB 19.00\, CUKRARNA BAR\, LJUBLJANA \nS Sjónom se bo pogovarjal Marcel Štefančič\, filmski kritik\, voditelj\, pisatelj\, esejist in urednik. O filmskem islandskem čudežu in potopljenih islandskih bankirjih. \n  \nVabljeni! \n 
URL:https://www.goga.si/dogodek/sjon-v-sloveniji/
CATEGORIES:Literarni večer,pogovorni večer
ATTACH;FMTTYPE=image/png:https://www.goga.si/wp-content/uploads/Sjon-FB-banner.png
END:VEVENT
END:VCALENDAR