BEGIN:VCALENDAR
VERSION:2.0
PRODID:-//Založba Goga - ECPv6.15.18//NONSGML v1.0//EN
CALSCALE:GREGORIAN
METHOD:PUBLISH
X-WR-CALNAME:Založba Goga
X-ORIGINAL-URL:https://www.goga.si
X-WR-CALDESC:Dogodki za Založba Goga
REFRESH-INTERVAL;VALUE=DURATION:PT1H
X-Robots-Tag:noindex
X-PUBLISHED-TTL:PT1H
BEGIN:VTIMEZONE
TZID:Europe/Ljubljana
BEGIN:DAYLIGHT
TZOFFSETFROM:+0100
TZOFFSETTO:+0200
TZNAME:CEST
DTSTART:20200329T010000
END:DAYLIGHT
BEGIN:STANDARD
TZOFFSETFROM:+0200
TZOFFSETTO:+0100
TZNAME:CET
DTSTART:20201025T010000
END:STANDARD
BEGIN:DAYLIGHT
TZOFFSETFROM:+0100
TZOFFSETTO:+0200
TZNAME:CEST
DTSTART:20210328T010000
END:DAYLIGHT
BEGIN:STANDARD
TZOFFSETFROM:+0200
TZOFFSETTO:+0100
TZNAME:CET
DTSTART:20211031T010000
END:STANDARD
BEGIN:DAYLIGHT
TZOFFSETFROM:+0100
TZOFFSETTO:+0200
TZNAME:CEST
DTSTART:20220327T010000
END:DAYLIGHT
BEGIN:STANDARD
TZOFFSETFROM:+0200
TZOFFSETTO:+0100
TZNAME:CET
DTSTART:20221030T010000
END:STANDARD
END:VTIMEZONE
BEGIN:VEVENT
DTSTART;TZID=Europe/Ljubljana:20210506T100000
DTEND;TZID=Europe/Ljubljana:20210506T120000
DTSTAMP:20260422T190731
CREATED:20210506T090605Z
LAST-MODIFIED:20210525T143017Z
UID:8317-1620295200-1620302400@www.goga.si
SUMMARY:Sobotne pravljice
DESCRIPTION:V soboto\, 8. 5.\, ob 10. uri vabljeni v knjigarno Goga na Sobotne pravljice. Brali bomo knjigo Rjavko\, najmanjši medvedek\, avtorice Anne Mangan. Po branju bomo na ustvarjalni delavnici izdelovali lutke. \n  \nDelavnico bomo izvedli v skladu z veljavnimi ukrepi in priporočili NIJZ za preprečitev širjenja koronavirusa.  \n*** \nDogodek je del kulturnih dejavnosti v knjigarni\, ki jo sofinancira Javna agencija za knjigo Republike Slovenije. \n  \n  \n \n  \n  \n  \n 
URL:https://www.goga.si/dogodek/sobotne-pravljice-3/
LOCATION:Knjigarna Goga\, Glavni trg 6\, Novo mesto\, 8000\, Slovenija
ATTACH;FMTTYPE=image/jpeg:https://www.goga.si/wp-content/uploads/slika.jpg-preview.jpg
ORGANIZER;CN="Zalo%C5%BEba Goga":MAILTO:goga@goga.si
END:VEVENT
END:VCALENDAR