BEGIN:VCALENDAR
VERSION:2.0
PRODID:-//Založba Goga - ECPv6.15.18//NONSGML v1.0//EN
CALSCALE:GREGORIAN
METHOD:PUBLISH
X-WR-CALNAME:Založba Goga
X-ORIGINAL-URL:https://www.goga.si
X-WR-CALDESC:Dogodki za Založba Goga
REFRESH-INTERVAL;VALUE=DURATION:PT1H
X-Robots-Tag:noindex
X-PUBLISHED-TTL:PT1H
BEGIN:VTIMEZONE
TZID:Europe/Ljubljana
BEGIN:DAYLIGHT
TZOFFSETFROM:+0100
TZOFFSETTO:+0200
TZNAME:CEST
DTSTART:20220327T010000
END:DAYLIGHT
BEGIN:STANDARD
TZOFFSETFROM:+0200
TZOFFSETTO:+0100
TZNAME:CET
DTSTART:20221030T010000
END:STANDARD
BEGIN:DAYLIGHT
TZOFFSETFROM:+0100
TZOFFSETTO:+0200
TZNAME:CEST
DTSTART:20230326T010000
END:DAYLIGHT
BEGIN:STANDARD
TZOFFSETFROM:+0200
TZOFFSETTO:+0100
TZNAME:CET
DTSTART:20231029T010000
END:STANDARD
BEGIN:DAYLIGHT
TZOFFSETFROM:+0100
TZOFFSETTO:+0200
TZNAME:CEST
DTSTART:20240331T010000
END:DAYLIGHT
BEGIN:STANDARD
TZOFFSETFROM:+0200
TZOFFSETTO:+0100
TZNAME:CET
DTSTART:20241027T010000
END:STANDARD
END:VTIMEZONE
BEGIN:VEVENT
DTSTART;TZID=Europe/Ljubljana:20231010T190000
DTEND;TZID=Europe/Ljubljana:20231010T200000
DTSTAMP:20260423T070049
CREATED:20230929T111600Z
LAST-MODIFIED:20230929T111627Z
UID:21546-1696964400-1696968000@www.goga.si
SUMMARY:Svetovni dan mentalnega zdravja
DESCRIPTION:Ob Svetovnem dnevu duševnega zdravja\, ki ga obeležujemo 10. oktobra\, vas na novomeški enoti NIJZ v sodelovanju z Založbo in knjigarno GOGA vabimo na pogovorni večer z naslovom Stiske delovno aktivne populacije.\nDogodek se bo odvil 10.10. ob 19h v knjigarni Goga na Glavnem trgu\, možno pa ga bo spremljati tudi v živo preko platforme youtube\, kjer bo posnetek prav tako na voljo za naknaden ogled.\nV družbi strokovnjakov s področja duševnega zdravja ter dela in zaposlovanja se bomo pogovarjali o raznih stiskah\, ki jih doživljamo kot delovno aktivna populacija. Duševno zdravje na delovnem mestu bomo prikazali kot osnovno človekovo pravico ter osvetlili medsebojno povezanost teh pomembnih področij. Pozornost pa bomo namenili tudi iskanju rešitev in predvsem načinov\, kako stanje na tem področju izboljšati – tako vsak sam kot tudi skupaj\, kot družba.\n\n\nGostje pogovora:\nJudita Ledić\, Kadrovska asistenca\nGoran Lukič\, Delavska svetovalnica\nHermina A. Nur\, specialistka zdravstvene psihologije in psihoterapevtka\nPogovor vodi Maja Megla.\n\n\nVabljeni!
URL:https://www.goga.si/dogodek/svetovni-dan-mentalnega-zdravja/
LOCATION:Knjigarna Goga\, Glavni trg 6\, Novo mesto\, 8000\, Slovenija
CATEGORIES:Knjigarna Goga,pogovorni večer
END:VEVENT
END:VCALENDAR