BEGIN:VCALENDAR
VERSION:2.0
PRODID:-//Založba Goga - ECPv6.15.18//NONSGML v1.0//EN
CALSCALE:GREGORIAN
METHOD:PUBLISH
X-WR-CALNAME:Založba Goga
X-ORIGINAL-URL:https://www.goga.si
X-WR-CALDESC:Dogodki za Založba Goga
REFRESH-INTERVAL;VALUE=DURATION:PT1H
X-Robots-Tag:noindex
X-PUBLISHED-TTL:PT1H
BEGIN:VTIMEZONE
TZID:Europe/Ljubljana
BEGIN:DAYLIGHT
TZOFFSETFROM:+0100
TZOFFSETTO:+0200
TZNAME:CEST
DTSTART:20240331T010000
END:DAYLIGHT
BEGIN:STANDARD
TZOFFSETFROM:+0200
TZOFFSETTO:+0100
TZNAME:CET
DTSTART:20241027T010000
END:STANDARD
BEGIN:DAYLIGHT
TZOFFSETFROM:+0100
TZOFFSETTO:+0200
TZNAME:CEST
DTSTART:20250330T010000
END:DAYLIGHT
BEGIN:STANDARD
TZOFFSETFROM:+0200
TZOFFSETTO:+0100
TZNAME:CET
DTSTART:20251026T010000
END:STANDARD
BEGIN:DAYLIGHT
TZOFFSETFROM:+0100
TZOFFSETTO:+0200
TZNAME:CEST
DTSTART:20260329T010000
END:DAYLIGHT
BEGIN:STANDARD
TZOFFSETFROM:+0200
TZOFFSETTO:+0100
TZNAME:CET
DTSTART:20261025T010000
END:STANDARD
END:VTIMEZONE
BEGIN:VEVENT
DTSTART;TZID=Europe/Ljubljana:20250321T190000
DTEND;TZID=Europe/Ljubljana:20250321T203000
DTSTAMP:20260423T023232
CREATED:20250307T134624Z
LAST-MODIFIED:20250307T134624Z
UID:35670-1742583600-1742589000@www.goga.si
SUMMARY:SVETOVNI DAN POEZIJE: Pesniški slam
DESCRIPTION:Ljubitelji in ljubiteljice poezije\, pozor! Ob svetovnem dnevu poezije\, 21. marca vas vabimo v Knjigarno in kavarno Goga\, kjer bo potekal tekmovalni pesniški dogodek – slam. Povezoval ga bo Luka Piletič. \nKer je svetovni dan poezije\, se bodo tekmovalci na odru v prvem krogu predstavili s poezijo izbranega pesnika\, v drugem krogu pa z avtorsko poezijo. Občinstvo bo tokrat v vlogi žirije in bo nastope sproti ocenjevalo. Na podlagi ocen se bosta v finalni krog uvrstila najboljša nastopajoča. A seveda zmaga le eden. \nKnjižno nagrado podeljuje Založba Goga. \nPRAVILA: \n\nPripravljeni morate imeti dve avtorski pesmi in eno izbranega avtorja (tuja se interpretira v prvem krogu\, avtorski dve sta za naslednja dva kroga).\nZa posamezen nastop so na voljo največ tri minute\nTokrat ste lahko na odru oblečeni kot pesnik\, ki ga intepretirate (skodelica kave\, klobuk\, plašč …).\nV naslednjih dveh krogih pa lahko samo jezikate\, brez rekvizitov in glasbil (lahko pa poješ\, žvižgaš in podobno).\nPesmi se naučite na pamet ali jih preberete.\n\nPrijavite se na knjigarnagoga@goga.si ali 15 min pred dogodkom v Knjigarni Goga.
URL:https://www.goga.si/dogodek/svetovni-dan-poezije-pesniski-slam/
LOCATION:Knjigarna in kavarna Goga
ATTACH;FMTTYPE=image/png:https://www.goga.si/wp-content/uploads/Pesniski-slam.png
ORGANIZER;CN="Zalo%C5%BEba Goga":MAILTO:goga@goga.si
END:VEVENT
END:VCALENDAR