BEGIN:VCALENDAR
VERSION:2.0
PRODID:-//Založba Goga - ECPv6.15.18//NONSGML v1.0//EN
CALSCALE:GREGORIAN
METHOD:PUBLISH
X-WR-CALNAME:Založba Goga
X-ORIGINAL-URL:https://www.goga.si
X-WR-CALDESC:Dogodki za Založba Goga
REFRESH-INTERVAL;VALUE=DURATION:PT1H
X-Robots-Tag:noindex
X-PUBLISHED-TTL:PT1H
BEGIN:VTIMEZONE
TZID:Europe/Ljubljana
BEGIN:DAYLIGHT
TZOFFSETFROM:+0100
TZOFFSETTO:+0200
TZNAME:CEST
DTSTART:20240331T010000
END:DAYLIGHT
BEGIN:STANDARD
TZOFFSETFROM:+0200
TZOFFSETTO:+0100
TZNAME:CET
DTSTART:20241027T010000
END:STANDARD
BEGIN:DAYLIGHT
TZOFFSETFROM:+0100
TZOFFSETTO:+0200
TZNAME:CEST
DTSTART:20250330T010000
END:DAYLIGHT
BEGIN:STANDARD
TZOFFSETFROM:+0200
TZOFFSETTO:+0100
TZNAME:CET
DTSTART:20251026T010000
END:STANDARD
BEGIN:DAYLIGHT
TZOFFSETFROM:+0100
TZOFFSETTO:+0200
TZNAME:CEST
DTSTART:20260329T010000
END:DAYLIGHT
BEGIN:STANDARD
TZOFFSETFROM:+0200
TZOFFSETTO:+0100
TZNAME:CET
DTSTART:20261025T010000
END:STANDARD
END:VTIMEZONE
BEGIN:VEVENT
DTSTART;TZID=Europe/Ljubljana:20250408T190000
DTEND;TZID=Europe/Ljubljana:20250408T203000
DTSTAMP:20260423T023419
CREATED:20250404T081219Z
LAST-MODIFIED:20250404T081219Z
UID:35957-1744138800-1744144200@www.goga.si
SUMMARY:Tarok turnir
DESCRIPTION:Dobrodošli_e ljubitelji in ljubiteljice taroka! Vsak mesec (običajno prvi torek na urniku) se dobimo v Knjigarni in kavarni Goga\, kjer se v dobri družbi odvije turnir te priljubljene družabne igre. Ni važno ali ste že mojster ali pa šele začetnik\, vabljeni vsi!
URL:https://www.goga.si/dogodek/tarok-turnir-13/
LOCATION:Knjigarna Goga\, Glavni trg 6\, Novo mesto\, 8000\, Slovenija
ATTACH;FMTTYPE=image/jpeg:https://www.goga.si/wp-content/uploads/2023-03-Goga-dogajanje-tarok-576x384-1.jpg
ORGANIZER;CN="Zalo%C5%BEba Goga":MAILTO:goga@goga.si
END:VEVENT
END:VCALENDAR