BEGIN:VCALENDAR
VERSION:2.0
PRODID:-//Založba Goga - ECPv6.15.18//NONSGML v1.0//EN
CALSCALE:GREGORIAN
METHOD:PUBLISH
X-WR-CALNAME:Založba Goga
X-ORIGINAL-URL:https://www.goga.si
X-WR-CALDESC:Dogodki za Založba Goga
REFRESH-INTERVAL;VALUE=DURATION:PT1H
X-Robots-Tag:noindex
X-PUBLISHED-TTL:PT1H
BEGIN:VTIMEZONE
TZID:Europe/Ljubljana
BEGIN:DAYLIGHT
TZOFFSETFROM:+0100
TZOFFSETTO:+0200
TZNAME:CEST
DTSTART:20220327T010000
END:DAYLIGHT
BEGIN:STANDARD
TZOFFSETFROM:+0200
TZOFFSETTO:+0100
TZNAME:CET
DTSTART:20221030T010000
END:STANDARD
BEGIN:DAYLIGHT
TZOFFSETFROM:+0100
TZOFFSETTO:+0200
TZNAME:CEST
DTSTART:20230326T010000
END:DAYLIGHT
BEGIN:STANDARD
TZOFFSETFROM:+0200
TZOFFSETTO:+0100
TZNAME:CET
DTSTART:20231029T010000
END:STANDARD
BEGIN:DAYLIGHT
TZOFFSETFROM:+0100
TZOFFSETTO:+0200
TZNAME:CEST
DTSTART:20240331T010000
END:DAYLIGHT
BEGIN:STANDARD
TZOFFSETFROM:+0200
TZOFFSETTO:+0100
TZNAME:CET
DTSTART:20241027T010000
END:STANDARD
END:VTIMEZONE
BEGIN:VEVENT
DTSTART;TZID=Europe/Ljubljana:20230831T200000
DTEND;TZID=Europe/Ljubljana:20230831T210000
DTSTAMP:20260424T211026
CREATED:20230802T122102Z
LAST-MODIFIED:20230831T092257Z
UID:18444-1693512000-1693515600@www.goga.si
SUMMARY:V kakšni kondiciji je kratka zgodba pri nas\, pogovor
DESCRIPTION:V sodelovanju z radijskim programom Ars smo pripravili okroglo mizo ob izidu antologije Brez milosti\, antologije slovenske kratke proze\, ki bo hkrati izšla tudi v nemščini in angleščini. Z uredniki\, urednicami\, avtorji in avtoricami bomo to priložnost\, pred podelitvijo nagrade Maruše Krese\, izkoristili za pogovor o tem\, v kakšni kondiciji je pri nas kratka proza. \nGostje in gosti: Suzana Tratnik\, Jedrt Maležič\, dr. Aljozija Zupan Sosič\, dr. Aljoša Harlamov in Tina Kozin (moderatorka)
URL:https://www.goga.si/dogodek/v-kaksni-kondiciji-je-kratka-zgodba-pri-nas-pogovor/
LOCATION:Knjižnica Mirana Jarca\, Rozmanova 28\, Novo mesto\, 8000\, Slovenija
CATEGORIES:Novo mesto short 2023
ORGANIZER;CN="Zalo%C5%BEba Goga":MAILTO:goga@goga.si
END:VEVENT
END:VCALENDAR