BEGIN:VCALENDAR
VERSION:2.0
PRODID:-//Založba Goga - ECPv6.15.18//NONSGML v1.0//EN
CALSCALE:GREGORIAN
METHOD:PUBLISH
X-WR-CALNAME:Založba Goga
X-ORIGINAL-URL:https://www.goga.si
X-WR-CALDESC:Dogodki za Založba Goga
REFRESH-INTERVAL;VALUE=DURATION:PT1H
X-Robots-Tag:noindex
X-PUBLISHED-TTL:PT1H
BEGIN:VTIMEZONE
TZID:Europe/Ljubljana
BEGIN:DAYLIGHT
TZOFFSETFROM:+0100
TZOFFSETTO:+0200
TZNAME:CEST
DTSTART:20220327T010000
END:DAYLIGHT
BEGIN:STANDARD
TZOFFSETFROM:+0200
TZOFFSETTO:+0100
TZNAME:CET
DTSTART:20221030T010000
END:STANDARD
BEGIN:DAYLIGHT
TZOFFSETFROM:+0100
TZOFFSETTO:+0200
TZNAME:CEST
DTSTART:20230326T010000
END:DAYLIGHT
BEGIN:STANDARD
TZOFFSETFROM:+0200
TZOFFSETTO:+0100
TZNAME:CET
DTSTART:20231029T010000
END:STANDARD
BEGIN:DAYLIGHT
TZOFFSETFROM:+0100
TZOFFSETTO:+0200
TZNAME:CEST
DTSTART:20240331T010000
END:DAYLIGHT
BEGIN:STANDARD
TZOFFSETFROM:+0200
TZOFFSETTO:+0100
TZNAME:CET
DTSTART:20241027T010000
END:STANDARD
END:VTIMEZONE
BEGIN:VEVENT
DTSTART;TZID=Europe/Ljubljana:20230324T190000
DTEND;TZID=Europe/Ljubljana:20230324T220000
DTSTAMP:20260425T044904
CREATED:20230309T115700Z
LAST-MODIFIED:20230309T115700Z
UID:17068-1679684400-1679695200@www.goga.si
SUMMARY:Večer družabnih iger
DESCRIPTION:Beseda igra naj bi prvotno pomenila zabavo s plesom\, mi pa vas tokrat vabimo na zabavo in ples možganskih celic. \nIgrali bomo vse klasike družabnih iger\, od Dixita do remija\, našle pa se bodo tudi take za zahtevnejše igralce\, kot je Magic: The Gathering.
URL:https://www.goga.si/dogodek/vecer-druzabnih-iger/
LOCATION:Knjigarna Goga\, Glavni trg 6\, Novo mesto\, 8000\, Slovenija
ATTACH;FMTTYPE=image/png:https://www.goga.si/wp-content/uploads/2023-03-Goga-dogajanje-druzabne-igre.png
END:VEVENT
END:VCALENDAR