BEGIN:VCALENDAR
VERSION:2.0
PRODID:-//Založba Goga - ECPv6.15.18//NONSGML v1.0//EN
CALSCALE:GREGORIAN
METHOD:PUBLISH
X-WR-CALNAME:Založba Goga
X-ORIGINAL-URL:https://www.goga.si
X-WR-CALDESC:Dogodki za Založba Goga
REFRESH-INTERVAL;VALUE=DURATION:PT1H
X-Robots-Tag:noindex
X-PUBLISHED-TTL:PT1H
BEGIN:VTIMEZONE
TZID:Europe/Ljubljana
BEGIN:DAYLIGHT
TZOFFSETFROM:+0100
TZOFFSETTO:+0200
TZNAME:CEST
DTSTART:20240331T010000
END:DAYLIGHT
BEGIN:STANDARD
TZOFFSETFROM:+0200
TZOFFSETTO:+0100
TZNAME:CET
DTSTART:20241027T010000
END:STANDARD
BEGIN:DAYLIGHT
TZOFFSETFROM:+0100
TZOFFSETTO:+0200
TZNAME:CEST
DTSTART:20250330T010000
END:DAYLIGHT
BEGIN:STANDARD
TZOFFSETFROM:+0200
TZOFFSETTO:+0100
TZNAME:CET
DTSTART:20251026T010000
END:STANDARD
BEGIN:DAYLIGHT
TZOFFSETFROM:+0100
TZOFFSETTO:+0200
TZNAME:CEST
DTSTART:20260329T010000
END:DAYLIGHT
BEGIN:STANDARD
TZOFFSETFROM:+0200
TZOFFSETTO:+0100
TZNAME:CET
DTSTART:20261025T010000
END:STANDARD
END:VTIMEZONE
BEGIN:VEVENT
DTSTART;TZID=Europe/Ljubljana:20250425T190000
DTEND;TZID=Europe/Ljubljana:20250425T203000
DTSTAMP:20260423T011648
CREATED:20250404T094900Z
LAST-MODIFIED:20250404T094900Z
UID:35973-1745607600-1745613000@www.goga.si
SUMMARY:Véliki knjigarniški kviz
DESCRIPTION:Ponovno vabljeni na petkov kviz v Knjigarni Goga. Teme tokrat še ne izdamo…da napetost raste. Kdo ve\, kakšna bo tokrat tema večera. Pustite se presenetiti. \nNa kviz se prijavite z ekipo štirih tekmovalcev. Igra bo potekala v krogih\, vsaka od prijavljenih ekip pa bo vsakič dobila svoje vprašanje. Točke se resno seštevajo\, glavno nagrado pa podarja Založba Goga in morda še kdo. \nVabljeni\, da se napeti tekmi pridružite in svojo ekipo prijavite na: knjigarnagoga@goga.si ali 15 minut pred dogodkom.
URL:https://www.goga.si/dogodek/veliki-knjigarniski-kviz-4/
LOCATION:Knjigarna Goga\, Glavni trg 6\, Novo mesto\, 8000\, Slovenija
CATEGORIES:Kviz
ATTACH;FMTTYPE=image/png:https://www.goga.si/wp-content/uploads/Goga-KVIZ-FB-event-banner-2-576x324-1.png
ORGANIZER;CN="Zalo%C5%BEba Goga":MAILTO:goga@goga.si
END:VEVENT
END:VCALENDAR